BEGIN:VCALENDAR
VERSION:2.0
PRODID:-//Zest! - ECPv6.15.11//NONSGML v1.0//EN
CALSCALE:GREGORIAN
METHOD:PUBLISH
X-ORIGINAL-URL:https://staging.zestchef.com
X-WR-CALDESC:Events for Zest!
REFRESH-INTERVAL;VALUE=DURATION:PT1H
X-Robots-Tag:noindex
X-PUBLISHED-TTL:PT1H
BEGIN:VTIMEZONE
TZID:America/New_York
BEGIN:DAYLIGHT
TZOFFSETFROM:-0500
TZOFFSETTO:-0400
TZNAME:EDT
DTSTART:20230312T070000
END:DAYLIGHT
BEGIN:STANDARD
TZOFFSETFROM:-0400
TZOFFSETTO:-0500
TZNAME:EST
DTSTART:20231105T060000
END:STANDARD
BEGIN:DAYLIGHT
TZOFFSETFROM:-0500
TZOFFSETTO:-0400
TZNAME:EDT
DTSTART:20240310T070000
END:DAYLIGHT
BEGIN:STANDARD
TZOFFSETFROM:-0400
TZOFFSETTO:-0500
TZNAME:EST
DTSTART:20241103T060000
END:STANDARD
BEGIN:DAYLIGHT
TZOFFSETFROM:-0500
TZOFFSETTO:-0400
TZNAME:EDT
DTSTART:20250309T070000
END:DAYLIGHT
BEGIN:STANDARD
TZOFFSETFROM:-0400
TZOFFSETTO:-0500
TZNAME:EST
DTSTART:20251102T060000
END:STANDARD
END:VTIMEZONE
BEGIN:VEVENT
DTSTART;TZID=America/New_York:20241101T180000
DTEND;TZID=America/New_York:20241101T200000
DTSTAMP:20260420T104609
CREATED:20240904T164017Z
LAST-MODIFIED:20240909T163537Z
UID:10000033-1730484000-1730491200@staging.zestchef.com
SUMMARY:2421 - Ramen From Scratch
DESCRIPTION:Join Helen Chudakova-Sanya as she demystifies the art of crafting authentic Ramen from scratch. From making ramen dough and making noodles  to simmering a rich broth\, this hands-on experience will immerse you in the soul-warming world of Japanese comfort food. Customize your bowl with an array of toppings and savor the satisfaction of creating a steaming bowl of ramen goodness.\nHands on. BYOB. Ages 16 and up. \n\nRamen Noodles From Scratch\nMiso Ramen Dashi\nThe Perfect Soy Sauce Marinated Egg\nCrispy Pork Belly\n\nWhen: Friday\, 11/1/2024 6pm-8pm \n 
URL:https://staging.zestchef.com/class/2421-ramen-from-scratch/
LOCATION:Zest Cooking School\, 1180 Erbs Quarry Road\, Lititz\, PA\, 17543\, United States
CATEGORIES:Basics and Techniques,Date Night,International Cuisine,Masterclass
ATTACH;FMTTYPE=image/jpeg:https://staging.zestchef.com/wp-content/uploads/2024/09/Ramen--scaled.jpg
END:VEVENT
BEGIN:VEVENT
DTSTART;TZID=America/New_York:20241104T180000
DTEND;TZID=America/New_York:20241104T200000
DTSTAMP:20260420T104609
CREATED:20240905T162832Z
LAST-MODIFIED:20240905T164941Z
UID:10000035-1730743200-1730750400@staging.zestchef.com
SUMMARY:2423 - Asian Dumplings
DESCRIPTION:Join us for an exciting Class with Cat Alwine! Learn the art of making delicious\, handmade dumplings from scratch\, including a variety of fillings and dipping sauces. Cat will guide you through techniques for perfect folding\, steaming\, and frying\, giving you the skills to recreate these tasty treats at home.  \nHands on. BYOB. Ages 16 and up. \n\nKorean Mandu\nJapanese Gyoza\nChinese Wonton Soup\n\nWhen: Monday\, 11/4/2024\, 6pm-8pm
URL:https://staging.zestchef.com/class/2423-asian-dumplings/
LOCATION:Zest Cooking School\, 1180 Erbs Quarry Road\, Lititz\, PA\, 17543\, United States
CATEGORIES:Date Night,International Cuisine
ATTACH;FMTTYPE=image/jpeg:https://staging.zestchef.com/wp-content/uploads/2024/09/shutterstock_1859061418-scaled.jpg
END:VEVENT
BEGIN:VEVENT
DTSTART;TZID=America/New_York:20241107T180000
DTEND;TZID=America/New_York:20241107T200000
DTSTAMP:20260420T104609
CREATED:20240909T162143Z
LAST-MODIFIED:20240909T164615Z
UID:10000037-1731002400-1731009600@staging.zestchef.com
SUMMARY:2426 - Fresh Pasta and Sauces
DESCRIPTION:Join Chef Helen for a hands-on Fresh Pasta Class and unlock the secrets to crafting perfect pasta from scratch! You will learn the art of making silky pasta dough using simple ingredients and traditional techniques as well as pair your fresh pasta with an array of easy to make hearty sauces for colder months. \nHands on. BYOB. Ages 16 and up.  \n● Fresh Pasta Dough\n● Fettuccine with Ragu Bolognese\n● Ricotta Ravioli with Brown Sage Butter Sauce  \n  \nWhen: Thursday\, 11/7/2024 6pm-8pm
URL:https://staging.zestchef.com/class/2426-fresh-pasta-and-sauces/
LOCATION:Zest Cooking School\, 1180 Erbs Quarry Road\, Lititz\, PA\, 17543\, United States
CATEGORIES:Basics and Techniques,Date Night
ATTACH;FMTTYPE=image/jpeg:https://staging.zestchef.com/wp-content/uploads/2024/09/fresh-pasta-and-sauces-scaled-e1725900364874.jpg
END:VEVENT
BEGIN:VEVENT
DTSTART;TZID=America/New_York:20241108T180000
DTEND;TZID=America/New_York:20241108T200000
DTSTAMP:20260420T104609
CREATED:20240909T170435Z
LAST-MODIFIED:20241108T191128Z
UID:10000039-1731088800-1731096000@staging.zestchef.com
SUMMARY:2427 - Date Night: Holiday Classics à la Julia Child
DESCRIPTION:Experience a romantic evening of French cuisine with our Julia inspired class\, led by Chef Helen. Together\, you’ll prepare a delightful three-course meal and a cocktail. Enjoy hands-on instruction and delicious food – perfect for a memorable night out. Bon appétit! \nHands on. BYOB. Ages 21 and up. *Tickets priced per person \n\nFrench Onion Soup \nCoq au Vin\nChocolate Souffle \nFrench 75 \n\nWhen: Friday 11/8/2024\, 6pm-8pm
URL:https://staging.zestchef.com/class/2427-date-night-holiday-classics-a-la-julia-child/
LOCATION:Zest Cooking School\, 1180 Erbs Quarry Road\, Lititz\, PA\, 17543\, United States
CATEGORIES:Date Night,Healthy Eating,Seasonal
ATTACH;FMTTYPE=image/jpeg:https://staging.zestchef.com/wp-content/uploads/2024/09/julia-child-scaled-e1725901444440.jpg
END:VEVENT
BEGIN:VEVENT
DTSTART;TZID=America/New_York:20241112T180000
DTEND;TZID=America/New_York:20241112T200000
DTSTAMP:20260420T104609
CREATED:20240909T173106Z
LAST-MODIFIED:20240909T173106Z
UID:10000041-1731434400-1731441600@staging.zestchef.com
SUMMARY:2429 - Holiday Hors D'oeuvres
DESCRIPTION:Join Chef Linda Leeking for a fun and easy Holiday Hors D’oeuvres cooking class. Learn how to make a variety of delicious and elegant appetizers perfect for any festive gathering. From savory to sweet\, you will master bite-sized treats that will impress your guests and add joy to your celebration. \nHands on. BYOB. Ages 16 and up. \n\nGreek Layer Dip\nCheese and Crab Tyropita\nFruit Kabobs with Dip\nMongolian Meatballs\nBacon and Cheese Stuffed Mushrooms\nEnchilada Cups\nCranberry Mules\nChristmas Crack\n\nWhen: Tuesday\, 11/12/2024\, 6pm-8pm
URL:https://staging.zestchef.com/class/2429-holiday-hors-doeuvres/
LOCATION:Zest Cooking School\, 1180 Erbs Quarry Road\, Lititz\, PA\, 17543\, United States
CATEGORIES:Basics and Techniques,Date Night,Seasonal
ATTACH;FMTTYPE=image/jpeg:https://staging.zestchef.com/wp-content/uploads/2024/09/hors-doueveres-scaled-e1725903029743.jpg
END:VEVENT
BEGIN:VEVENT
DTSTART;TZID=America/New_York:20241113T180000
DTEND;TZID=America/New_York:20241113T200000
DTSTAMP:20260420T104609
CREATED:20240909T180458Z
LAST-MODIFIED:20240909T180458Z
UID:10000042-1731520800-1731528000@staging.zestchef.com
SUMMARY:2430 - Cozy Autumn Dinner
DESCRIPTION:Join Chef Joe Hall\, for a delectable cooking class featuring his seasonal favorites. Specializing in French\, New American\, and Italian cuisine\, Chef Hall will guide you through preparing delicious dishes using fresh\, local produce. Discover the flavors of autumn and learn how to create delights that showcase the best ingredients of the season.  \nHands on. BYOB. Ages 21 and up. Gluten Free \n\nVermont Apple Cocktail\nPan Roasted Duck Breast with Orange Gastrique\nPotato Hash\nRoasted Brussel Sprouts and Pancetta\n\nWhen: Wednesday\, 11/13/2024\, 6pm-8pm
URL:https://staging.zestchef.com/class/2430-cozy-autumn-dinner/
LOCATION:Zest Cooking School\, 1180 Erbs Quarry Road\, Lititz\, PA\, 17543\, United States
CATEGORIES:Date Night,Healthy Eating,Seasonal
ATTACH;FMTTYPE=image/jpeg:https://staging.zestchef.com/wp-content/uploads/2024/09/cozy-autumn-scaled-e1725905084346.jpg
END:VEVENT
BEGIN:VEVENT
DTSTART;TZID=America/New_York:20241114T180000
DTEND;TZID=America/New_York:20241114T200000
DTSTAMP:20260420T104609
CREATED:20240909T180900Z
LAST-MODIFIED:20240909T180900Z
UID:10000043-1731607200-1731614400@staging.zestchef.com
SUMMARY:2431 - Date Night: Charcuterie Board Building
DESCRIPTION:Bring a date and your 3 favorite cheeses.  Every couple will be given a discount at Lititz’s Savory Gourmet cheese shop to purchase your 3 cheeses before class.  Then bring your cheese to class and we will provide the rest while Chef Hannah provides instruction on building the ultimate charcuterie board\, as well as some fun and fancy fixings to make it a meal.  \nHands-On. BYOB. Ages 18 and up.  *Price listed is per couple. \n\nCharcuterie Board Building – Ingredients\, Tips\, and Ratios\nMake Ahead Winter Kale Salad\nRosemary Champagne Jelly (demonstration)\nChocolate “Salami” and Dessert “Charcuterie” \n\nWhen: Thursday\, 11/14/2024\, 6pm-8pm
URL:https://staging.zestchef.com/class/2431-date-night-charcuterie-board-building/
LOCATION:Zest Cooking School\, 1180 Erbs Quarry Road\, Lititz\, PA\, 17543\, United States
CATEGORIES:Date Night,Seasonal
ATTACH;FMTTYPE=image/jpeg:https://staging.zestchef.com/wp-content/uploads/2024/09/charcuterie-board-scaled-e1725905320544.jpg
END:VEVENT
BEGIN:VEVENT
DTSTART;TZID=America/New_York:20241123T180000
DTEND;TZID=America/New_York:20241123T200000
DTSTAMP:20260420T104609
CREATED:20240909T192203Z
LAST-MODIFIED:20240909T192236Z
UID:10000049-1732384800-1732392000@staging.zestchef.com
SUMMARY:2437 - Holiday Hors D'oeuvres
DESCRIPTION:Join Chef Linda Leeking for a fun and easy Holiday Hors D’oeuvres Cooking Class.  Learn how to make a variety of delicious and elegant appetizers perfect for any festive gathering. From savory to sweet\, you will master bite-sized treats that will impress your guests and add joy to your celebration. \nHands on. BYOB. Ages 16 and up. \n\nGreek Layer Dip\nCheese and Crab Tyropita\nFruit Kabobs with Dip\nMongolian Meatballs\nBacon and Cheese Stuffed Mushrooms\nEnchilada Cups\nCranberry Mules\nChristmas Crack\n\nWhen: Saturday\, 11/23/2024\, 6pm-8pm\,
URL:https://staging.zestchef.com/class/2437-holiday-hors-doeuvres/
LOCATION:Zest Cooking School\, 1180 Erbs Quarry Road\, Lititz\, PA\, 17543\, United States
CATEGORIES:Date Night,Seasonal
ATTACH;FMTTYPE=image/jpeg:https://staging.zestchef.com/wp-content/uploads/2024/09/hors-doueveres-scaled-e1725903029743.jpg
END:VEVENT
END:VCALENDAR