BEGIN:VCALENDAR
VERSION:2.0
PRODID:-//Zest! - ECPv6.15.11//NONSGML v1.0//EN
CALSCALE:GREGORIAN
METHOD:PUBLISH
X-WR-CALNAME:Zest!
X-ORIGINAL-URL:https://staging.zestchef.com
X-WR-CALDESC:Events for Zest!
REFRESH-INTERVAL;VALUE=DURATION:PT1H
X-Robots-Tag:noindex
X-PUBLISHED-TTL:PT1H
BEGIN:VTIMEZONE
TZID:America/New_York
BEGIN:DAYLIGHT
TZOFFSETFROM:-0500
TZOFFSETTO:-0400
TZNAME:EDT
DTSTART:20230312T070000
END:DAYLIGHT
BEGIN:STANDARD
TZOFFSETFROM:-0400
TZOFFSETTO:-0500
TZNAME:EST
DTSTART:20231105T060000
END:STANDARD
BEGIN:DAYLIGHT
TZOFFSETFROM:-0500
TZOFFSETTO:-0400
TZNAME:EDT
DTSTART:20240310T070000
END:DAYLIGHT
BEGIN:STANDARD
TZOFFSETFROM:-0400
TZOFFSETTO:-0500
TZNAME:EST
DTSTART:20241103T060000
END:STANDARD
BEGIN:DAYLIGHT
TZOFFSETFROM:-0500
TZOFFSETTO:-0400
TZNAME:EDT
DTSTART:20250309T070000
END:DAYLIGHT
BEGIN:STANDARD
TZOFFSETFROM:-0400
TZOFFSETTO:-0500
TZNAME:EST
DTSTART:20251102T060000
END:STANDARD
BEGIN:DAYLIGHT
TZOFFSETFROM:-0500
TZOFFSETTO:-0400
TZNAME:EDT
DTSTART:20260308T070000
END:DAYLIGHT
BEGIN:STANDARD
TZOFFSETFROM:-0400
TZOFFSETTO:-0500
TZNAME:EST
DTSTART:20261101T060000
END:STANDARD
BEGIN:DAYLIGHT
TZOFFSETFROM:-0500
TZOFFSETTO:-0400
TZNAME:EDT
DTSTART:20270314T070000
END:DAYLIGHT
BEGIN:STANDARD
TZOFFSETFROM:-0400
TZOFFSETTO:-0500
TZNAME:EST
DTSTART:20271107T060000
END:STANDARD
BEGIN:DAYLIGHT
TZOFFSETFROM:-0500
TZOFFSETTO:-0400
TZNAME:EDT
DTSTART:20280312T070000
END:DAYLIGHT
BEGIN:STANDARD
TZOFFSETFROM:-0400
TZOFFSETTO:-0500
TZNAME:EST
DTSTART:20281105T060000
END:STANDARD
END:VTIMEZONE
BEGIN:VEVENT
DTSTART;TZID=America/New_York:20241211T180000
DTEND;TZID=America/New_York:20241211T200000
DTSTAMP:20260420T153244
CREATED:20240911T133521Z
LAST-MODIFIED:20240911T133521Z
UID:10000061-1733940000-1733947200@staging.zestchef.com
SUMMARY:2449 American Steakhouse Classics
DESCRIPTION:Step into the world of iconic American steakhouse dining with Chef Joe Hall. Elevate your home cooking with expert techniques that will impress at any dinner table. Ideal for steak lovers and those looking to master hearty\, timeless dishes. \nHands-on. BYOB. Ages 21 and up \n\n“Freezer Door” Espresso Martini\nWedge Salad with Bacon Lardons and Blue Cheese\nSteak au Poivre\, with Creamy Cognac Sauce and Asparagus \n“Half Baked” Chocolate Chip Cookie Skillet à la mode\n\n  \nWhen: Wednesday\, 12/11/2024 6pm-8pm
URL:https://staging.zestchef.com/class/2449-american-steakhouse-classics/
LOCATION:Zest Cooking School\, 1180 Erbs Quarry Road\, Lititz\, PA\, 17543\, United States
CATEGORIES:Date Night
ATTACH;FMTTYPE=image/jpeg:https://staging.zestchef.com/wp-content/uploads/2024/09/american-steakhouse-scaled-e1726061705714.jpg
END:VEVENT
BEGIN:VEVENT
DTSTART;TZID=America/New_York:20241212T180000
DTEND;TZID=America/New_York:20241212T200000
DTSTAMP:20260420T153244
CREATED:20240911T134105Z
LAST-MODIFIED:20240911T134105Z
UID:10000062-1734026400-1734033600@staging.zestchef.com
SUMMARY:2450 - Gourmet Noel: An Elegant Christmas Dinner
DESCRIPTION:Join us for an evening of elegance and indulgence at our Elegant Christmas Dinner\, led by Chef Linda Leeking. Enjoy a carefully crafted menu and festive atmosphere\, perfect for celebrating the season in style. This is a night of fine dining you won’t forget!  Hands on. BYOB. Ages 16 and up.  \n\nPear and Brie Canapes\nSteak Diane\nRice Pilaf\nBroccoli with Lemon Butter\nClafouti with Whipped Cream\n\nWhen: Thursday\, 12/12/2024 6pm-8pm
URL:https://staging.zestchef.com/class/2450-gourmet-noel-an-elegant-christmas-dinner/
LOCATION:Zest Cooking School\, 1180 Erbs Quarry Road\, Lititz\, PA\, 17543\, United States
CATEGORIES:Date Night,Seasonal
ATTACH;FMTTYPE=image/jpeg:https://staging.zestchef.com/wp-content/uploads/2024/09/elehant-scaled-e1726062052731.jpg
END:VEVENT
BEGIN:VEVENT
DTSTART;TZID=America/New_York:20241213T170000
DTEND;TZID=America/New_York:20241213T200000
DTSTAMP:20260420T153244
CREATED:20240911T134802Z
LAST-MODIFIED:20240911T134802Z
UID:10000063-1734109200-1734120000@staging.zestchef.com
SUMMARY:2451 - Date Night: Winter Cocktails and Small Plates
DESCRIPTION:Get into the holiday spirit with our Winter Cocktails and Small Plates Cooking Class! Join Chef Helen Chudakova-Sanya as she guides you through crafting delicious\, festive drinks and pairing them with perfect small plates. From cozy flavors to creative cocktails\, you will learn the secrets to making impressive drinks and bites for the season. \nPartial Hands on. Ages 21 and up.*Tickets priced per person \n\nRum Eggnog\nCranberry Mule\nGingerSnap Martini\nKorean Sticky Wings\nBacon Jalapeno poppers\nSpinach Artichoke Dip\nNutella Lace Cookies \n\nWhen: Friday\, 12/13/2024 5pm-8pm
URL:https://staging.zestchef.com/class/2451-date-night-winter-cocktails-and-small-plates/
LOCATION:Zest Cooking School\, 1180 Erbs Quarry Road\, Lititz\, PA\, 17543\, United States
CATEGORIES:Date Night,Seasonal,Special Event
ATTACH;FMTTYPE=image/jpeg:https://staging.zestchef.com/wp-content/uploads/2024/09/cocktails--scaled-e1726062469117.jpg
END:VEVENT
BEGIN:VEVENT
DTSTART;TZID=America/New_York:20241217T180000
DTEND;TZID=America/New_York:20241217T200000
DTSTAMP:20260420T153244
CREATED:20240911T135336Z
LAST-MODIFIED:20240911T135336Z
UID:10000066-1734458400-1734465600@staging.zestchef.com
SUMMARY:2454 - Gourmet Noel: An Elegant Christmas Dinner
DESCRIPTION:Join us for an evening of elegance and indulgence at our Elegant Christmas Dinner\, led by Chef Linda Leeking. Enjoy a carefully crafted menu and festive atmosphere\, perfect for celebrating the season in style. This is a night of fine dining you won’t forget! Hands on. BYOB. Ages 16 and up.  \n\nPear and Brie Canapes\nSteak Diane\nRice Pilaf\nBroccoli with Lemon Butter\nClafouti with Whipped Cream\n\nWhen: Tuesday\, 12/17/2024 6pm-8pm
URL:https://staging.zestchef.com/class/2454-gourmet-noel-an-elegant-christmas-dinner/
LOCATION:Zest Cooking School\, 1180 Erbs Quarry Road\, Lititz\, PA\, 17543\, United States
CATEGORIES:Date Night,Seasonal
ATTACH;FMTTYPE=image/jpeg:https://staging.zestchef.com/wp-content/uploads/2024/09/elehant-scaled-e1726062052731.jpg
END:VEVENT
BEGIN:VEVENT
DTSTART;TZID=America/New_York:20241221T180000
DTEND;TZID=America/New_York:20241221T200000
DTSTAMP:20260420T153244
CREATED:20240911T141456Z
LAST-MODIFIED:20240911T141622Z
UID:10000070-1734804000-1734811200@staging.zestchef.com
SUMMARY:2458 - Date Night: Traditional Ukrainian Christmas and New Year
DESCRIPTION:Take your date on a journey to Ukrainian Christmas with Chef Helen Chudakova-Sanya in our Traditional Ukrainian Christmas Cooking Class. Discover the rich traditions of her homeland while learning to make classic holiday dishes. From borsch to varenyky and kutia\, you will explore the heartwarming recipes that have been passed down through generations. Join us for a festive culinary experience celebrating family\,food & tradition! \nHands on. BYOB. Ages 18 and up. *Tickets priced per person \n\nKutia- traditional wheat berry porridge\nBorsch with Duck \nPotato Dumplings with Caramelized Onions\nSoft Glazed Gingerbread Cookies with Preserves\nUzvar – dried fruit drink\n\n  \nWhen: Saturday\, 12/21/2024 6pm-8pm \n 
URL:https://staging.zestchef.com/class/2458-date-night-traditional-ukrainian-christmas-and-new-year/
LOCATION:Zest Cooking School\, 1180 Erbs Quarry Road\, Lititz\, PA\, 17543\, United States
CATEGORIES:Date Night,International Cuisine,Seasonal
ATTACH;FMTTYPE=image/jpeg:https://staging.zestchef.com/wp-content/uploads/2024/09/ukrainian-christmas--scaled-e1726064085845.jpg
END:VEVENT
BEGIN:VEVENT
DTSTART;TZID=America/New_York:20250918T180000
DTEND;TZID=America/New_York:20250918T200000
DTSTAMP:20260420T153244
CREATED:20240911T140633Z
LAST-MODIFIED:20250815T024500Z
UID:10000068-1758218400-1758225600@staging.zestchef.com
SUMMARY:2456 - Amuse Bouche
DESCRIPTION:Join Chef Joe Hall for a delightful evening of cocktails and bite-sized gourmet creations in this hands-on class. Perfect for holiday gatherings\, you’ll learn to prepare elegant small bites and festive drinks that are sure to impress. Elevate your skills with expert techniques and beautifully crafted recipes. \nHands on. BYOB  Ages 21 and up \n\nCranberry Aperol Spritz\nBacon-Wrapped Scallops with Cranberry Orange Glaze\nSavory Crème Puffs with Goat Cheese and White Balsamic Caramelized Onions\nPear and Beet Bruschetta with Gorgonzola and Spiced Walnuts\nHazelnut Pull-Apart Pastry Tree\n\n  \nWhen: Thursday\, 12/19/2024 6pm-8pm \n 
URL:https://staging.zestchef.com/class/2456-amuse-bouche/
LOCATION:Zest Cooking School\, 1180 Erbs Quarry Road\, Lititz\, PA\, 17543\, United States
CATEGORIES:Date Night,International Cuisine,Seasonal
ATTACH;FMTTYPE=image/jpeg:https://staging.zestchef.com/wp-content/uploads/2024/09/amuse-bouche-scaled-e1726063580609.jpg
END:VEVENT
BEGIN:VEVENT
DTSTART;TZID=America/New_York:20261221T180000
DTEND;TZID=America/New_York:20271221T200000
DTSTAMP:20260420T153244
CREATED:20250408T124344Z
LAST-MODIFIED:20260311T205422Z
UID:10000073-1797876000-1829419200@staging.zestchef.com
SUMMARY:2458 - Date Night: Traditional Ukrainian Christmas and New Year
DESCRIPTION:Take your date on a journey to Ukrainian Christmas with Chef Helen Chudakova-Sanya in our Traditional Ukrainian Christmas Cooking Class. Discover the rich traditions of her homeland while learning to make classic holiday dishes. From borsch to varenyky and kutia\, you will explore the heartwarming recipes that have been passed down through generations. Join us for a festive culinary experience celebrating family\,food & tradition! \nHands on. BYOB. Ages 18 and up. *Tickets priced per person \n\nKutia- traditional wheat berry porridge\nBorsch with Duck \nPotato Dumplings with Caramelized Onions\nSoft Glazed Gingerbread Cookies with Preserves\nUzvar – dried fruit drink\n\n  \nWhen: Saturday\, 12/21/2025 6pm-8pm \n 
URL:https://staging.zestchef.com/class/2458-date-night-traditional-ukrainian-christmas-and-new-year-2/
LOCATION:Zest Cooking School\, 1180 Erbs Quarry Road\, Lititz\, PA\, 17543\, United States
CATEGORIES:Date Night,International Cuisine,Seasonal
ATTACH;FMTTYPE=image/jpeg:https://staging.zestchef.com/wp-content/uploads/2024/09/ukrainian-christmas--scaled-e1726064085845.jpg
END:VEVENT
END:VCALENDAR